BEGIN:VCALENDAR
VERSION:2.0
PRODID:-//Pfarreiengemeinschaft Glandorf-Schwege - ECPv6.0.10//NONSGML v1.0//EN
CALSCALE:GREGORIAN
METHOD:PUBLISH
X-WR-CALNAME:Pfarreiengemeinschaft Glandorf-Schwege
X-ORIGINAL-URL:https://www.pg-glandorf-schwege.de
X-WR-CALDESC:Veranstaltungen für Pfarreiengemeinschaft Glandorf-Schwege
REFRESH-INTERVAL;VALUE=DURATION:PT1H
X-Robots-Tag:noindex
X-PUBLISHED-TTL:PT1H
BEGIN:VTIMEZONE
TZID:Europe/Berlin
BEGIN:DAYLIGHT
TZOFFSETFROM:+0100
TZOFFSETTO:+0200
TZNAME:CEST
DTSTART:20230326T010000
END:DAYLIGHT
BEGIN:STANDARD
TZOFFSETFROM:+0200
TZOFFSETTO:+0100
TZNAME:CET
DTSTART:20231029T010000
END:STANDARD
END:VTIMEZONE
BEGIN:VEVENT
DTSTART;TZID=Europe/Berlin:20231208T080000
DTEND;TZID=Europe/Berlin:20231208T170000
DTSTAMP:20260425T125018
CREATED:20221215T184241Z
LAST-MODIFIED:20221215T184241Z
UID:4847-1702022400-1702054800@www.pg-glandorf-schwege.de
SUMMARY:Patronatsfest St. Marien Schwege
DESCRIPTION:
URL:https://www.pg-glandorf-schwege.de/veranstaltung/patronatsfest-st-marien-schwege-2/
LOCATION:Pfarrkirche St. Marien
END:VEVENT
END:VCALENDAR