BEGIN:VCALENDAR
VERSION:2.0
PRODID:-//Pfarreiengemeinschaft Glandorf-Schwege - ECPv6.0.10//NONSGML v1.0//EN
CALSCALE:GREGORIAN
METHOD:PUBLISH
X-WR-CALNAME:Pfarreiengemeinschaft Glandorf-Schwege
X-ORIGINAL-URL:https://www.pg-glandorf-schwege.de
X-WR-CALDESC:Veranstaltungen für Pfarreiengemeinschaft Glandorf-Schwege
REFRESH-INTERVAL;VALUE=DURATION:PT1H
X-Robots-Tag:noindex
X-PUBLISHED-TTL:PT1H
BEGIN:VTIMEZONE
TZID:Europe/Berlin
BEGIN:DAYLIGHT
TZOFFSETFROM:+0100
TZOFFSETTO:+0200
TZNAME:CEST
DTSTART:20230326T010000
END:DAYLIGHT
BEGIN:STANDARD
TZOFFSETFROM:+0200
TZOFFSETTO:+0100
TZNAME:CET
DTSTART:20231029T010000
END:STANDARD
END:VTIMEZONE
BEGIN:VEVENT
DTSTART;TZID=Europe/Berlin:20231216T180000
DTEND;TZID=Europe/Berlin:20231216T190000
DTSTAMP:20260425T125159
CREATED:20221215T182855Z
LAST-MODIFIED:20221215T182855Z
UID:4824-1702749600-1702753200@www.pg-glandorf-schwege.de
SUMMARY:Taizé-Gottesdienst im Kripplein Christi in Glandorf
DESCRIPTION:
URL:https://www.pg-glandorf-schwege.de/veranstaltung/taize-gottesdienst-im-kripplein-christi-in-glandorf-3/
LOCATION:Pfarrkirche St. Johannis
END:VEVENT
END:VCALENDAR